BEGIN:VCALENDAR
VERSION:2.0
PRODID:The City of Fargo Calendar
UID:680901ba5ed26bf68f2b9dc5@cityoffargo.com
BEGIN:VEVENT
DTSTAMP:2026-04-16T15:17:41.126Z
DTSTART:2026-04-22T21:00:00.000Z
DTEND:2026-04-22T22:00:00.000Z
SUMMARY:Diversion Authority Finance Committee
DESCRIPTION:[View the meeting agenda](https://download.fargond.gov/1/diversion_authority_finance_committee_meeting.pdf)
URL:http://fargond.gov/news-events/calendar/event-detail?id=680901ba5ed26bf68f2b9dc5
X-ALT-DESC;FMTTYPE=text/html:<p><a href="https://download.fargond.gov/1/diversion_authority_finance_committee_meeting.pdf">View the meeting agenda</a></p>

LOCATION:Fargo City Hall 225 4th Street North Fargo, ND 58102
X-MICROSOFT-CDO-ALLDAYEVENT:false
END:VEVENT
END:VCALENDAR