BEGIN:VCALENDAR
VERSION:2.0
PRODID:The City of Fargo Calendar
UID:680901785ed26bf68f2b8ce9@cityoffargo.com
BEGIN:VEVENT
DTSTAMP:2026-04-23T20:35:05.349Z
DTSTART:2026-04-27T15:00:00.000Z
DTEND:2026-04-27T16:30:00.000Z
SUMMARY:Finance Committee
DESCRIPTION:[View the agenda](https://fargond.gov/city-government/boards-commissions/finance-committee/agendas-minutes/2026-agendas-minutes) for the upcoming meeting. 
URL:http://fargond.gov/news-events/calendar/event-detail?id=680901785ed26bf68f2b8ce9
X-ALT-DESC;FMTTYPE=text/html:<p><a href="https://fargond.gov/city-government/boards-commissions/finance-committee/agendas-minutes/2026-agendas-minutes">View the agenda</a> for the upcoming meeting.</p>

LOCATION:Fargo City Hall 225 4th Street North Fargo, ND 58102
X-MICROSOFT-CDO-ALLDAYEVENT:false
END:VEVENT
END:VCALENDAR