BEGIN:VCALENDAR
VERSION:2.0
PRODID:The City of Fargo Calendar
UID:67570e6f61a1d45671bae254@cityoffargo.com
BEGIN:VEVENT
DTSTAMP:2024-12-09T15:36:15.665Z
DTSTART:2025-01-31T20:00:00.000Z
DTEND:2025-01-31T21:00:00.000Z
SUMMARY:Homeschool Secret Agent STEAM
DESCRIPTION:Your mission: learn what it takes to be a secret agent using science, technology, engineering, art, and math! During this special operation, you’ll learn how to solve a code and make your own, analyze fingerprints and shoe prints, spot clues, invent a disguise, and more! This event is most appropriate for kids ages 5 and older.


For more information about this program, call Children’s Services at [701.241.1495](tel:7012411495 "701.241.1495") or email [Children's Services](/contact-us?contact=593876645e40bbe6182faf75 "Children's Services").
URL:http://fargond.gov/news-events/calendar/event-detail?id=67570e6f61a1d45671bae254
X-ALT-DESC;FMTTYPE=text/html:<p>Your mission: learn what it takes to be a secret agent using science, technology, engineering, art, and math! During this special operation, you’ll learn how to solve a code and make your own, analyze fingerprints and shoe prints, spot clues, invent a disguise, and more! This event is most appropriate for kids ages 5 and older.</p>
<p>For more information about this program, call Children’s Services at <a href="tel:7012411495" title="701.241.1495">701.241.1495</a> or email <a href="/contact-us?contact=593876645e40bbe6182faf75" title="Children's Services">Children's Services</a>.</p>

LOCATION:Main Library 101 4th Street North Fargo, ND 58102
X-MICROSOFT-CDO-ALLDAYEVENT:false
END:VEVENT
END:VCALENDAR