BEGIN:VCALENDAR
VERSION:2.0
PRODID:The City of Fargo Calendar
UID:6644c742dc3c1b612777e1c0@cityoffargo.com
BEGIN:VEVENT
DTSTAMP:2024-07-17T13:35:49.644Z
DTSTART:2024-07-18T17:00:00.000Z
DTEND:2024-07-18T18:00:00.000Z
SUMMARY:Human Rights Commission
DESCRIPTION:Regular Meeting of the Human Rights Commission. 
URL:http://fargond.gov/news-events/calendar/event-detail?id=6644c742dc3c1b612777e1c0
X-ALT-DESC;FMTTYPE=text/html:<p>Regular Meeting of the Human Rights Commission.</p>

LOCATION:Fargo City Hall 225 4th Street North Fargo, ND 58102
X-MICROSOFT-CDO-ALLDAYEVENT:false
END:VEVENT
END:VCALENDAR