BEGIN:VCALENDAR
VERSION:2.0
PRODID:The City of Fargo Calendar
UID:641389bcae7fe2ced49f9127@cityoffargo.com
BEGIN:VEVENT
DTSTAMP:2023-03-16T21:27:23.978Z
DTSTART:2023-05-31T20:00:00.000Z
DTEND:2023-05-31T22:00:00.000Z
SUMMARY:Tech Help
DESCRIPTION:Tech Help will be changing times starting Jan. 1, 2023 with new hours from 3 to 5 p.m. on Wednesday afternoons at the downtown Main Library.
Do you have difficulty with your phone, laptop, or tablet? Our librarians are ready to help you with your technology questions on Wednesday afternoons from 3 to 5 p.m.
While you're here, ask us about how to get started with mobile printing and accessing our digital collection of ebooks, audiobooks, and more. Remember to bring your device with you. Drop in or call [701.241.1492](tel7012411492 "701.241.1492") to reserve a 30-minute time slot.
URL:http://fargond.gov/news-events/calendar/event-detail?id=641389bcae7fe2ced49f9127
X-ALT-DESC;FMTTYPE=text/html:<p>Tech Help will be changing times starting Jan. 1, 2023 with new hours from 3 to 5 p.m. on Wednesday afternoons at the downtown Main Library.<br>
Do you have difficulty with your phone, laptop, or tablet? Our librarians are ready to help you with your technology questions on Wednesday afternoons from 3 to 5 p.m.<br>
While you're here, ask us about how to get started with mobile printing and accessing our digital collection of ebooks, audiobooks, and more. Remember to bring your device with you. Drop in or call <a href="tel7012411492" title="701.241.1492">701.241.1492</a> to reserve a 30-minute time slot.</p>

LOCATION:Main Library 101 4th Street North Fargo, ND 58102
X-MICROSOFT-CDO-ALLDAYEVENT:false
END:VEVENT
END:VCALENDAR