BEGIN:VCALENDAR
VERSION:2.0
PRODID:The City of Fargo Calendar
UID:63039ca9e81e2050890a2560@cityoffargo.com
BEGIN:VEVENT
DTSTAMP:2026-04-22T18:15:45.214Z
DTSTART:2026-04-23T20:30:00.000Z
DTEND:2026-04-23T22:30:00.000Z
SUMMARY:Metro Flood Diversion Authority
DESCRIPTION:Metro Flood Diversion Authority regular meeting. [View the meeting agenda.](https://download.fargond.gov/0/diversion_authority_board_meeting.pdf "View the meeting agenda")

URL:http://fargond.gov/news-events/calendar/event-detail?id=63039ca9e81e2050890a2560
X-ALT-DESC;FMTTYPE=text/html:<p>Metro Flood Diversion Authority regular meeting. <a href="https://download.fargond.gov/0/diversion_authority_board_meeting.pdf" title="View the meeting agenda">View the meeting agenda.</a></p>

LOCATION:Fargo City Hall 225 4th Street North Fargo, ND 58102
X-MICROSOFT-CDO-ALLDAYEVENT:false
END:VEVENT
END:VCALENDAR