BEGIN:VCALENDAR
VERSION:2.0
PRODID:The City of Fargo Calendar
UID:5c952744436a68cb0889341f@cityoffargo.com
BEGIN:VEVENT
DTSTAMP:2019-03-22T18:22:40.807Z
DTSTART:2019-04-23T21:00:00.000Z
DTEND:2019-04-23T22:00:00.000Z
SUMMARY:Tiny Tea Party and Craft for Tweens, Teens & Adults at Carlson
DESCRIPTION:Itsy bitsy things are just so cute! You’re invited to enjoy mini refreshments and create a tiny craft at our first-ever tiny tea party! Open to ’tweens, teens, and adults. __Pre-registration is required__; [register online](http://programregistration.library.cityoffargo.com/ProgramListing "register onine") or call Sarah at [701.241.8295](tel7012418295 "701.241.8295") for details.
__Tuesday, April 23 – Dr. James Carlson Library at 4 p.m.
Thursday, April 25 – Main Library at 6 p.m.__

URL:http://fargond.gov/news-events/calendar/event-detail?id=5c952744436a68cb0889341f
X-ALT-DESC;FMTTYPE=text/html:<p>Itsy bitsy things are just so cute! You’re invited to enjoy mini refreshments and create a tiny craft at our first-ever tiny tea party! Open to ’tweens, teens, and adults. <strong>Pre-registration is required</strong>; <a href="http://programregistration.library.cityoffargo.com/ProgramListing" title="register onine">register online</a> or call Sarah at <a href="tel7012418295" title="701.241.8295">701.241.8295</a> for details.<br>
<strong>Tuesday, April 23 – Dr. James Carlson Library at 4 p.m.<br>
Thursday, April 25 – Main Library at 6 p.m.</strong></p>

LOCATION:Dr. James Carlson Library 2801 32nd Avenue South Fargo, ND 58103
X-MICROSOFT-CDO-ALLDAYEVENT:false
END:VEVENT
END:VCALENDAR