BEGIN:VCALENDAR
VERSION:2.0
PRODID:The City of Fargo Calendar
UID:5c6ef03f436a68cb0889336e@cityoffargo.com
BEGIN:VEVENT
DTSTAMP:2019-03-22T18:18:02.125Z
DTSTART:2019-04-15T19:00:00.000Z
DTEND:2019-04-15T20:00:00.000Z
SUMMARY:Don’t Fall for Springtime Scams at Northport
DESCRIPTION:With spring and building season upon us, the Better Business Bureau has tips for hiring a contractor, landscaping service, and more. Join Gary Johnson from the Better Business Bureau of Minnesota and North Dakota and learn what to ask about before your project starts. 
URL:http://fargond.gov/news-events/calendar/event-detail?id=5c6ef03f436a68cb0889336e
X-ALT-DESC;FMTTYPE=text/html:<p>With spring and building season upon us, the Better Business Bureau has tips for hiring a contractor, landscaping service, and more. Join Gary Johnson from the Better Business Bureau of Minnesota and North Dakota and learn what to ask about before your project starts.</p>

LOCATION:Northport Library 2714 North Broadway Fargo, ND 58102
X-MICROSOFT-CDO-ALLDAYEVENT:false
END:VEVENT
END:VCALENDAR