BEGIN:VCALENDAR
VERSION:2.0
PRODID:The City of Fargo Calendar
UID:5c268bb4a04c3739050caa92@cityoffargo.com
BEGIN:VEVENT
DTSTAMP:2018-12-28T20:46:44.729Z
DTSTART:2019-05-15T21:00:00.000Z
DTEND:2019-05-15T22:00:00.000Z
SUMMARY:The Enchanted Book Club at the Main Library
DESCRIPTION:Kids in grades 3 to 7 can expect book-related discussion, hands-on activities, crafts, and snacks. We meet the third Wednesday of each month at 4 p.m. at the Main Library. All materials will be provided, but space is limited so pre-register and pick up a copy of the current month’s book by stopping at the Children’s Services desk at the Main Library or calling [701.241.1495](tel:7012411495 "Children's Services Desk").

Titles:
Jan. 16 - The Vanderbeeker's of 141st Street by Karina Yan Glaser
Feb. 20 - Wishtree by Katherine Applegate
Mar. 20 - Lockwood and Co.: The Screaming Staircase by Jonathan Stroud
Apr. 17 - Kid's Choice - see monthly flyer for updates
May 15 - Movie Day!
URL:http://fargond.gov/news-events/calendar/event-detail?id=5c268bb4a04c3739050caa92
X-ALT-DESC;FMTTYPE=text/html:<p>Kids in grades 3 to 7 can expect book-related discussion, hands-on activities, crafts, and snacks. We meet the third Wednesday of each month at 4 p.m. at the Main Library. All materials will be provided, but space is limited so pre-register and pick up a copy of the current month’s book by stopping at the Children’s Services desk at the Main Library or calling <a href="tel:7012411495" title="Children's Services Desk">701.241.1495</a>.</p>
<p>Titles:<br>
Jan. 16 - The Vanderbeeker's of 141st Street by Karina Yan Glaser<br>
Feb. 20 - Wishtree by Katherine Applegate<br>
Mar. 20 - Lockwood and Co.: The Screaming Staircase by Jonathan Stroud<br>
Apr. 17 - Kid's Choice - see monthly flyer for updates<br>
May 15 - Movie Day!</p>

LOCATION:Main Library 102 3rd Street North Fargo, ND 58102
X-MICROSOFT-CDO-ALLDAYEVENT:false
END:VEVENT
END:VCALENDAR